BEGIN:VCALENDAR
VERSION:2.0
PRODID:-//Time Out Youth - ECPv6.15.20//NONSGML v1.0//EN
CALSCALE:GREGORIAN
METHOD:PUBLISH
X-ORIGINAL-URL:https://timeoutyouth.org
X-WR-CALDESC:Events for Time Out Youth
REFRESH-INTERVAL;VALUE=DURATION:PT1H
X-Robots-Tag:noindex
X-PUBLISHED-TTL:PT1H
BEGIN:VTIMEZONE
TZID:UTC
BEGIN:STANDARD
TZOFFSETFROM:+0000
TZOFFSETTO:+0000
TZNAME:UTC
DTSTART:20250101T000000
END:STANDARD
END:VTIMEZONE
BEGIN:VEVENT
DTSTART;TZID=UTC:20260422T120000
DTEND;TZID=UTC:20260422T170000
DTSTAMP:20260424T083333
CREATED:20251230T174818Z
LAST-MODIFIED:20251230T180539Z
UID:10002124-1776859200-1776877200@timeoutyouth.org
SUMMARY:Wednesday Drop-In w/ Proud and Loud (2-4pm)
DESCRIPTION:Join us for our weekly Wednesday Drop-In space here at the Center! Available for all youth in our age range.
URL:https://timeoutyouth.org/event/wednesday-drop-in-3/2026-04-22/
LOCATION:Time Out Youth\, 3800 Monroe Rd\, Charlotte\,\, NC\, 28205\, United States
CATEGORIES:Youth Events
END:VEVENT
BEGIN:VEVENT
DTSTART;TZID=UTC:20260421T140000
DTEND;TZID=UTC:20260421T160000
DTSTAMP:20260424T083333
CREATED:20251202T190558Z
LAST-MODIFIED:20251230T173257Z
UID:10005337-1776780000-1776787200@timeoutyouth.org
SUMMARY:Queerly Beloved
DESCRIPTION:This is a drop-in program focused on self-care and wellness activities\, such as games\, crafts\, and more! Come join us for a fun and educational time!
URL:https://timeoutyouth.org/event/queerly-beloved-2/2026-04-21/
LOCATION:Time Out Youth\, 3800 Monroe Rd\, Charlotte\,\, NC\, 28205\, United States
CATEGORIES:Youth Events
END:VEVENT
BEGIN:VEVENT
DTSTART;TZID=UTC:20260418T120000
DTEND;TZID=UTC:20260418T160000
DTSTAMP:20260424T083333
CREATED:20231127T163357Z
LAST-MODIFIED:20240816T162825Z
UID:10000137-1776513600-1776528000@timeoutyouth.org
SUMMARY:Saturday Drop-In
DESCRIPTION:Join us for our weekly Saturday Drop-In space here at the Center! Available for youth ages 13-24.
URL:https://timeoutyouth.org/event/saturday-drop-in/2026-04-18/
LOCATION:Time Out Youth\, 3800 Monroe Rd\, Charlotte\,\, NC\, 28205\, United States
CATEGORIES:Youth Events
END:VEVENT
BEGIN:VEVENT
DTSTART;TZID=UTC:20260417T170000
DTEND;TZID=UTC:20260417T193000
DTSTAMP:20260424T083333
CREATED:20250912T183334Z
LAST-MODIFIED:20250912T185236Z
UID:10003465-1776445200-1776454200@timeoutyouth.org
SUMMARY:Birthday Friday
DESCRIPTION:Drop-in space celebrating all of our young people who have birthdays this month. Dinner and sweets provided for the celebration. Open to all youth.
URL:https://timeoutyouth.org/event/10722/2026-04-17/
LOCATION:Time Out Youth\, 3800 Monroe Rd\, Charlotte\,\, NC\, 28205\, United States
CATEGORIES:Youth Events
END:VEVENT
BEGIN:VEVENT
DTSTART;TZID=UTC:20260415T120000
DTEND;TZID=UTC:20260415T170000
DTSTAMP:20260424T083333
CREATED:20251230T174818Z
LAST-MODIFIED:20251230T180539Z
UID:10002123-1776254400-1776272400@timeoutyouth.org
SUMMARY:Wednesday Drop-In w/ Proud and Loud (2-4pm)
DESCRIPTION:Join us for our weekly Wednesday Drop-In space here at the Center! Available for all youth in our age range.
URL:https://timeoutyouth.org/event/wednesday-drop-in-3/2026-04-15/
LOCATION:Time Out Youth\, 3800 Monroe Rd\, Charlotte\,\, NC\, 28205\, United States
CATEGORIES:Youth Events
END:VEVENT
BEGIN:VEVENT
DTSTART;TZID=UTC:20260414T140000
DTEND;TZID=UTC:20260414T160000
DTSTAMP:20260424T083333
CREATED:20251202T190558Z
LAST-MODIFIED:20251230T173257Z
UID:10005336-1776175200-1776182400@timeoutyouth.org
SUMMARY:Queerly Beloved
DESCRIPTION:This is a drop-in program focused on self-care and wellness activities\, such as games\, crafts\, and more! Come join us for a fun and educational time!
URL:https://timeoutyouth.org/event/queerly-beloved-2/2026-04-14/
LOCATION:Time Out Youth\, 3800 Monroe Rd\, Charlotte\,\, NC\, 28205\, United States
CATEGORIES:Youth Events
END:VEVENT
BEGIN:VEVENT
DTSTART;TZID=UTC:20260411T120000
DTEND;TZID=UTC:20260411T160000
DTSTAMP:20260424T083333
CREATED:20231127T163357Z
LAST-MODIFIED:20240816T162825Z
UID:10000136-1775908800-1775923200@timeoutyouth.org
SUMMARY:Saturday Drop-In
DESCRIPTION:Join us for our weekly Saturday Drop-In space here at the Center! Available for youth ages 13-24.
URL:https://timeoutyouth.org/event/saturday-drop-in/2026-04-11/
LOCATION:Time Out Youth\, 3800 Monroe Rd\, Charlotte\,\, NC\, 28205\, United States
CATEGORIES:Youth Events
END:VEVENT
BEGIN:VEVENT
DTSTART;TZID=UTC:20260408T120000
DTEND;TZID=UTC:20260408T170000
DTSTAMP:20260424T083333
CREATED:20251230T174818Z
LAST-MODIFIED:20251230T180539Z
UID:10002122-1775649600-1775667600@timeoutyouth.org
SUMMARY:Wednesday Drop-In w/ Proud and Loud (2-4pm)
DESCRIPTION:Join us for our weekly Wednesday Drop-In space here at the Center! Available for all youth in our age range.
URL:https://timeoutyouth.org/event/wednesday-drop-in-3/2026-04-08/
LOCATION:Time Out Youth\, 3800 Monroe Rd\, Charlotte\,\, NC\, 28205\, United States
CATEGORIES:Youth Events
END:VEVENT
BEGIN:VEVENT
DTSTART;TZID=UTC:20260407T140000
DTEND;TZID=UTC:20260407T160000
DTSTAMP:20260424T083333
CREATED:20251202T190558Z
LAST-MODIFIED:20251230T173257Z
UID:10005335-1775570400-1775577600@timeoutyouth.org
SUMMARY:Queerly Beloved
DESCRIPTION:This is a drop-in program focused on self-care and wellness activities\, such as games\, crafts\, and more! Come join us for a fun and educational time!
URL:https://timeoutyouth.org/event/queerly-beloved-2/2026-04-07/
LOCATION:Time Out Youth\, 3800 Monroe Rd\, Charlotte\,\, NC\, 28205\, United States
CATEGORIES:Youth Events
END:VEVENT
BEGIN:VEVENT
DTSTART;TZID=UTC:20260404T120000
DTEND;TZID=UTC:20260404T160000
DTSTAMP:20260424T083333
CREATED:20231127T163357Z
LAST-MODIFIED:20240816T162825Z
UID:10000135-1775304000-1775318400@timeoutyouth.org
SUMMARY:Saturday Drop-In
DESCRIPTION:Join us for our weekly Saturday Drop-In space here at the Center! Available for youth ages 13-24.
URL:https://timeoutyouth.org/event/saturday-drop-in/2026-04-04/
LOCATION:Time Out Youth\, 3800 Monroe Rd\, Charlotte\,\, NC\, 28205\, United States
CATEGORIES:Youth Events
END:VEVENT
BEGIN:VEVENT
DTSTART;TZID=UTC:20260401T120000
DTEND;TZID=UTC:20260401T170000
DTSTAMP:20260424T083333
CREATED:20251230T174818Z
LAST-MODIFIED:20251230T180539Z
UID:10002121-1775044800-1775062800@timeoutyouth.org
SUMMARY:Wednesday Drop-In w/ Proud and Loud (2-4pm)
DESCRIPTION:Join us for our weekly Wednesday Drop-In space here at the Center! Available for all youth in our age range.
URL:https://timeoutyouth.org/event/wednesday-drop-in-3/2026-04-01/
LOCATION:Time Out Youth\, 3800 Monroe Rd\, Charlotte\,\, NC\, 28205\, United States
CATEGORIES:Youth Events
END:VEVENT
BEGIN:VEVENT
DTSTART;TZID=UTC:20260331T140000
DTEND;TZID=UTC:20260331T160000
DTSTAMP:20260424T083333
CREATED:20251202T190558Z
LAST-MODIFIED:20251230T173257Z
UID:10005334-1774965600-1774972800@timeoutyouth.org
SUMMARY:Queerly Beloved
DESCRIPTION:This is a drop-in program focused on self-care and wellness activities\, such as games\, crafts\, and more! Come join us for a fun and educational time!
URL:https://timeoutyouth.org/event/queerly-beloved-2/2026-03-31/
LOCATION:Time Out Youth\, 3800 Monroe Rd\, Charlotte\,\, NC\, 28205\, United States
CATEGORIES:Youth Events
END:VEVENT
BEGIN:VEVENT
DTSTART;TZID=UTC:20260328T120000
DTEND;TZID=UTC:20260328T160000
DTSTAMP:20260424T083333
CREATED:20231127T163357Z
LAST-MODIFIED:20240816T162825Z
UID:10000134-1774699200-1774713600@timeoutyouth.org
SUMMARY:Saturday Drop-In
DESCRIPTION:Join us for our weekly Saturday Drop-In space here at the Center! Available for youth ages 13-24.
URL:https://timeoutyouth.org/event/saturday-drop-in/2026-03-28/
LOCATION:Time Out Youth\, 3800 Monroe Rd\, Charlotte\,\, NC\, 28205\, United States
CATEGORIES:Youth Events
END:VEVENT
BEGIN:VEVENT
DTSTART;TZID=UTC:20260325T120000
DTEND;TZID=UTC:20260325T170000
DTSTAMP:20260424T083333
CREATED:20251230T174818Z
LAST-MODIFIED:20251230T180539Z
UID:10002120-1774440000-1774458000@timeoutyouth.org
SUMMARY:Wednesday Drop-In w/ Proud and Loud (2-4pm)
DESCRIPTION:Join us for our weekly Wednesday Drop-In space here at the Center! Available for all youth in our age range.
URL:https://timeoutyouth.org/event/wednesday-drop-in-3/2026-03-25/
LOCATION:Time Out Youth\, 3800 Monroe Rd\, Charlotte\,\, NC\, 28205\, United States
CATEGORIES:Youth Events
END:VEVENT
BEGIN:VEVENT
DTSTART;TZID=UTC:20260324T140000
DTEND;TZID=UTC:20260324T160000
DTSTAMP:20260424T083333
CREATED:20251202T190558Z
LAST-MODIFIED:20251230T173257Z
UID:10005333-1774360800-1774368000@timeoutyouth.org
SUMMARY:Queerly Beloved
DESCRIPTION:This is a drop-in program focused on self-care and wellness activities\, such as games\, crafts\, and more! Come join us for a fun and educational time!
URL:https://timeoutyouth.org/event/queerly-beloved-2/2026-03-24/
LOCATION:Time Out Youth\, 3800 Monroe Rd\, Charlotte\,\, NC\, 28205\, United States
CATEGORIES:Youth Events
END:VEVENT
BEGIN:VEVENT
DTSTART;TZID=UTC:20260321T120000
DTEND;TZID=UTC:20260321T160000
DTSTAMP:20260424T083333
CREATED:20231127T163357Z
LAST-MODIFIED:20240816T162825Z
UID:10000133-1774094400-1774108800@timeoutyouth.org
SUMMARY:Saturday Drop-In
DESCRIPTION:Join us for our weekly Saturday Drop-In space here at the Center! Available for youth ages 13-24.
URL:https://timeoutyouth.org/event/saturday-drop-in/2026-03-21/
LOCATION:Time Out Youth\, 3800 Monroe Rd\, Charlotte\,\, NC\, 28205\, United States
CATEGORIES:Youth Events
END:VEVENT
BEGIN:VEVENT
DTSTART;TZID=UTC:20260320T170000
DTEND;TZID=UTC:20260320T193000
DTSTAMP:20260424T083333
CREATED:20250912T183334Z
LAST-MODIFIED:20250912T185236Z
UID:10003464-1774026000-1774035000@timeoutyouth.org
SUMMARY:Birthday Friday
DESCRIPTION:Drop-in space celebrating all of our young people who have birthdays this month. Dinner and sweets provided for the celebration. Open to all youth.
URL:https://timeoutyouth.org/event/10722/2026-03-20/
LOCATION:Time Out Youth\, 3800 Monroe Rd\, Charlotte\,\, NC\, 28205\, United States
CATEGORIES:Youth Events
END:VEVENT
BEGIN:VEVENT
DTSTART;TZID=UTC:20260318T120000
DTEND;TZID=UTC:20260318T170000
DTSTAMP:20260424T083333
CREATED:20251230T174818Z
LAST-MODIFIED:20251230T180539Z
UID:10002119-1773835200-1773853200@timeoutyouth.org
SUMMARY:Wednesday Drop-In w/ Proud and Loud (2-4pm)
DESCRIPTION:Join us for our weekly Wednesday Drop-In space here at the Center! Available for all youth in our age range.
URL:https://timeoutyouth.org/event/wednesday-drop-in-3/2026-03-18/
LOCATION:Time Out Youth\, 3800 Monroe Rd\, Charlotte\,\, NC\, 28205\, United States
CATEGORIES:Youth Events
END:VEVENT
BEGIN:VEVENT
DTSTART;TZID=UTC:20260317T140000
DTEND;TZID=UTC:20260317T160000
DTSTAMP:20260424T083333
CREATED:20251202T190558Z
LAST-MODIFIED:20251230T173257Z
UID:10005332-1773756000-1773763200@timeoutyouth.org
SUMMARY:Queerly Beloved
DESCRIPTION:This is a drop-in program focused on self-care and wellness activities\, such as games\, crafts\, and more! Come join us for a fun and educational time!
URL:https://timeoutyouth.org/event/queerly-beloved-2/2026-03-17/
LOCATION:Time Out Youth\, 3800 Monroe Rd\, Charlotte\,\, NC\, 28205\, United States
CATEGORIES:Youth Events
END:VEVENT
BEGIN:VEVENT
DTSTART;TZID=UTC:20260314T120000
DTEND;TZID=UTC:20260314T160000
DTSTAMP:20260424T083333
CREATED:20231127T163357Z
LAST-MODIFIED:20240816T162825Z
UID:10000132-1773489600-1773504000@timeoutyouth.org
SUMMARY:Saturday Drop-In
DESCRIPTION:Join us for our weekly Saturday Drop-In space here at the Center! Available for youth ages 13-24.
URL:https://timeoutyouth.org/event/saturday-drop-in/2026-03-14/
LOCATION:Time Out Youth\, 3800 Monroe Rd\, Charlotte\,\, NC\, 28205\, United States
CATEGORIES:Youth Events
END:VEVENT
BEGIN:VEVENT
DTSTART;TZID=UTC:20260311T120000
DTEND;TZID=UTC:20260311T170000
DTSTAMP:20260424T083333
CREATED:20251230T174818Z
LAST-MODIFIED:20251230T180539Z
UID:10002118-1773230400-1773248400@timeoutyouth.org
SUMMARY:Wednesday Drop-In w/ Proud and Loud (2-4pm)
DESCRIPTION:Join us for our weekly Wednesday Drop-In space here at the Center! Available for all youth in our age range.
URL:https://timeoutyouth.org/event/wednesday-drop-in-3/2026-03-11/
LOCATION:Time Out Youth\, 3800 Monroe Rd\, Charlotte\,\, NC\, 28205\, United States
CATEGORIES:Youth Events
END:VEVENT
BEGIN:VEVENT
DTSTART;TZID=UTC:20260310T140000
DTEND;TZID=UTC:20260310T160000
DTSTAMP:20260424T083333
CREATED:20251202T190558Z
LAST-MODIFIED:20251230T173257Z
UID:10005331-1773151200-1773158400@timeoutyouth.org
SUMMARY:Queerly Beloved
DESCRIPTION:This is a drop-in program focused on self-care and wellness activities\, such as games\, crafts\, and more! Come join us for a fun and educational time!
URL:https://timeoutyouth.org/event/queerly-beloved-2/2026-03-10/
LOCATION:Time Out Youth\, 3800 Monroe Rd\, Charlotte\,\, NC\, 28205\, United States
CATEGORIES:Youth Events
END:VEVENT
BEGIN:VEVENT
DTSTART;TZID=UTC:20260307T120000
DTEND;TZID=UTC:20260307T160000
DTSTAMP:20260424T083333
CREATED:20231127T163357Z
LAST-MODIFIED:20240816T162825Z
UID:10000131-1772884800-1772899200@timeoutyouth.org
SUMMARY:Saturday Drop-In
DESCRIPTION:Join us for our weekly Saturday Drop-In space here at the Center! Available for youth ages 13-24.
URL:https://timeoutyouth.org/event/saturday-drop-in/2026-03-07/
LOCATION:Time Out Youth\, 3800 Monroe Rd\, Charlotte\,\, NC\, 28205\, United States
CATEGORIES:Youth Events
END:VEVENT
BEGIN:VEVENT
DTSTART;TZID=UTC:20260304T120000
DTEND;TZID=UTC:20260304T170000
DTSTAMP:20260424T083333
CREATED:20251230T174818Z
LAST-MODIFIED:20251230T180539Z
UID:10002117-1772625600-1772643600@timeoutyouth.org
SUMMARY:Wednesday Drop-In w/ Proud and Loud (2-4pm)
DESCRIPTION:Join us for our weekly Wednesday Drop-In space here at the Center! Available for all youth in our age range.
URL:https://timeoutyouth.org/event/wednesday-drop-in-3/2026-03-04/
LOCATION:Time Out Youth\, 3800 Monroe Rd\, Charlotte\,\, NC\, 28205\, United States
CATEGORIES:Youth Events
END:VEVENT
BEGIN:VEVENT
DTSTART;TZID=UTC:20260303T140000
DTEND;TZID=UTC:20260303T160000
DTSTAMP:20260424T083333
CREATED:20251202T190558Z
LAST-MODIFIED:20251230T173257Z
UID:10005330-1772546400-1772553600@timeoutyouth.org
SUMMARY:Queerly Beloved
DESCRIPTION:This is a drop-in program focused on self-care and wellness activities\, such as games\, crafts\, and more! Come join us for a fun and educational time!
URL:https://timeoutyouth.org/event/queerly-beloved-2/2026-03-03/
LOCATION:Time Out Youth\, 3800 Monroe Rd\, Charlotte\,\, NC\, 28205\, United States
CATEGORIES:Youth Events
END:VEVENT
BEGIN:VEVENT
DTSTART;TZID=UTC:20260228T120000
DTEND;TZID=UTC:20260228T160000
DTSTAMP:20260424T083333
CREATED:20231127T163357Z
LAST-MODIFIED:20240816T162825Z
UID:10000130-1772280000-1772294400@timeoutyouth.org
SUMMARY:Saturday Drop-In
DESCRIPTION:Join us for our weekly Saturday Drop-In space here at the Center! Available for youth ages 13-24.
URL:https://timeoutyouth.org/event/saturday-drop-in/2026-02-28/
LOCATION:Time Out Youth\, 3800 Monroe Rd\, Charlotte\,\, NC\, 28205\, United States
CATEGORIES:Youth Events
END:VEVENT
BEGIN:VEVENT
DTSTART;TZID=UTC:20260225T120000
DTEND;TZID=UTC:20260225T170000
DTSTAMP:20260424T083333
CREATED:20251230T174818Z
LAST-MODIFIED:20251230T180539Z
UID:10002116-1772020800-1772038800@timeoutyouth.org
SUMMARY:Wednesday Drop-In w/ Proud and Loud (2-4pm)
DESCRIPTION:Join us for our weekly Wednesday Drop-In space here at the Center! Available for all youth in our age range.
URL:https://timeoutyouth.org/event/wednesday-drop-in-3/2026-02-25/
LOCATION:Time Out Youth\, 3800 Monroe Rd\, Charlotte\,\, NC\, 28205\, United States
CATEGORIES:Youth Events
END:VEVENT
BEGIN:VEVENT
DTSTART;TZID=UTC:20260224T140000
DTEND;TZID=UTC:20260224T160000
DTSTAMP:20260424T083333
CREATED:20251202T190558Z
LAST-MODIFIED:20251230T173257Z
UID:10005329-1771941600-1771948800@timeoutyouth.org
SUMMARY:Queerly Beloved
DESCRIPTION:This is a drop-in program focused on self-care and wellness activities\, such as games\, crafts\, and more! Come join us for a fun and educational time!
URL:https://timeoutyouth.org/event/queerly-beloved-2/2026-02-24/
LOCATION:Time Out Youth\, 3800 Monroe Rd\, Charlotte\,\, NC\, 28205\, United States
CATEGORIES:Youth Events
END:VEVENT
BEGIN:VEVENT
DTSTART;TZID=UTC:20260221T120000
DTEND;TZID=UTC:20260221T160000
DTSTAMP:20260424T083333
CREATED:20231127T163357Z
LAST-MODIFIED:20240816T162825Z
UID:10000129-1771675200-1771689600@timeoutyouth.org
SUMMARY:Saturday Drop-In
DESCRIPTION:Join us for our weekly Saturday Drop-In space here at the Center! Available for youth ages 13-24.
URL:https://timeoutyouth.org/event/saturday-drop-in/2026-02-21/
LOCATION:Time Out Youth\, 3800 Monroe Rd\, Charlotte\,\, NC\, 28205\, United States
CATEGORIES:Youth Events
END:VEVENT
BEGIN:VEVENT
DTSTART;TZID=UTC:20260220T170000
DTEND;TZID=UTC:20260220T193000
DTSTAMP:20260424T083333
CREATED:20250912T183334Z
LAST-MODIFIED:20250912T185236Z
UID:10003463-1771606800-1771615800@timeoutyouth.org
SUMMARY:Birthday Friday
DESCRIPTION:Drop-in space celebrating all of our young people who have birthdays this month. Dinner and sweets provided for the celebration. Open to all youth.
URL:https://timeoutyouth.org/event/10722/2026-02-20/
LOCATION:Time Out Youth\, 3800 Monroe Rd\, Charlotte\,\, NC\, 28205\, United States
CATEGORIES:Youth Events
END:VEVENT
END:VCALENDAR